BEGIN:VCALENDAR
VERSION:2.0
PRODID:-//Sabre//Sabre VObject 4.5.8//EN
CALSCALE:GREGORIAN
BEGIN:VEVENT
UID:sabre-vobject-99a46737-b1cf-48ab-874d-510609f0c312
DTSTAMP:20260420T124702Z
SUMMARY:White Tail Ski Resort
DESCRIPTION:
X-ALT-DESC:FMTTYPE=text/html:<!DOCTYPE HTML PUBLIC "-//W3C//DTD HTML 3.2//E
 N"><HTML></HTML>
CREATED;TZID=America/New_York:20190103T120248
URL;VALUE=URI:https://jbmhh.armymwr.com/
DTSTART;TZID=America/New_York:20190112T063000
DTEND;TZID=America/New_York:20190112T073000
SEQUENCE:0
END:VEVENT
END:VCALENDAR
