BEGIN:VCALENDAR
VERSION:2.0
PRODID:-//Sabre//Sabre VObject 4.5.8//EN
CALSCALE:GREGORIAN
BEGIN:VEVENT
UID:sabre-vobject-06815f46-8df6-4630-bb84-6065c6ce5a6a
DTSTAMP:20260425T022955Z
SUMMARY:JBM-HH Holiday Tree Lighting
DESCRIPTION:
X-ALT-DESC:FMTTYPE=text/html:<!DOCTYPE HTML PUBLIC "-//W3C//DTD HTML 3.2//E
 N"><HTML></HTML>
CREATED;TZID=America/New_York:20181128T104656
URL;VALUE=URI:https://jbmhh.armymwr.com/
DTSTART;TZID=America/New_York:20181205T103000
DTEND;TZID=America/New_York:20181205T113000
SEQUENCE:0
END:VEVENT
END:VCALENDAR
